BEGIN:VCALENDAR
VERSION:2.0
PRODID:-//Atlantic Progression - ECPv6.15.20//NONSGML v1.0//EN
CALSCALE:GREGORIAN
METHOD:PUBLISH
X-ORIGINAL-URL:https://atlanticprogression.com
X-WR-CALDESC:Events for Atlantic Progression
REFRESH-INTERVAL;VALUE=DURATION:PT1H
X-Robots-Tag:noindex
X-PUBLISHED-TTL:PT1H
BEGIN:VTIMEZONE
TZID:America/Boise
BEGIN:DAYLIGHT
TZOFFSETFROM:-0700
TZOFFSETTO:-0600
TZNAME:MDT
DTSTART:20250309T090000
END:DAYLIGHT
BEGIN:STANDARD
TZOFFSETFROM:-0600
TZOFFSETTO:-0700
TZNAME:MST
DTSTART:20251102T080000
END:STANDARD
BEGIN:DAYLIGHT
TZOFFSETFROM:-0700
TZOFFSETTO:-0600
TZNAME:MDT
DTSTART:20260308T090000
END:DAYLIGHT
BEGIN:STANDARD
TZOFFSETFROM:-0600
TZOFFSETTO:-0700
TZNAME:MST
DTSTART:20261101T080000
END:STANDARD
BEGIN:DAYLIGHT
TZOFFSETFROM:-0700
TZOFFSETTO:-0600
TZNAME:MDT
DTSTART:20270314T090000
END:DAYLIGHT
BEGIN:STANDARD
TZOFFSETFROM:-0600
TZOFFSETTO:-0700
TZNAME:MST
DTSTART:20271107T080000
END:STANDARD
END:VTIMEZONE
BEGIN:VTIMEZONE
TZID:Europe/London
BEGIN:DAYLIGHT
TZOFFSETFROM:+0000
TZOFFSETTO:+0100
TZNAME:BST
DTSTART:20250330T010000
END:DAYLIGHT
BEGIN:STANDARD
TZOFFSETFROM:+0100
TZOFFSETTO:+0000
TZNAME:GMT
DTSTART:20251026T010000
END:STANDARD
BEGIN:DAYLIGHT
TZOFFSETFROM:+0000
TZOFFSETTO:+0100
TZNAME:BST
DTSTART:20260329T010000
END:DAYLIGHT
BEGIN:STANDARD
TZOFFSETFROM:+0100
TZOFFSETTO:+0000
TZNAME:GMT
DTSTART:20261025T010000
END:STANDARD
BEGIN:DAYLIGHT
TZOFFSETFROM:+0000
TZOFFSETTO:+0100
TZNAME:BST
DTSTART:20270328T010000
END:DAYLIGHT
BEGIN:STANDARD
TZOFFSETFROM:+0100
TZOFFSETTO:+0000
TZNAME:GMT
DTSTART:20271031T010000
END:STANDARD
END:VTIMEZONE
BEGIN:VEVENT
DTSTART;TZID=America/Boise:20260806T193000
DTEND;TZID=America/Boise:20260806T193000
DTSTAMP:20260424T101751
CREATED:20260310T171423Z
LAST-MODIFIED:20260310T171425Z
UID:877-1786044600-1786044600@atlanticprogression.com
SUMMARY:Open Deck Night at The Heart
DESCRIPTION:Open Deck Night at The Heart is a monthly Atlantic Progression event designed to provide DJs with a consistent opportunity to play in a club environment while helping build the regional underground electronic music community \n\n\n\nThe event takes place on the first Thursday of every month and begins at 7:30 PM. The night runs as late as 2:00 AM to ensure every scheduled DJ receives their time behind the decks. \n\n\n\nDJs must sign up using the official Open Deck Night signup form. Entries are only valid if submitted on or after 7:00 PM on the Monday before the upcoming event. Any submissions made after the previous event but before 7:00 PM that Monday will be discarded and ignored. Time slots are assigned in the order valid submissions are received\, and there is no preferential placement. Once a DJ is assigned a slot\, they are expected to play that slot. If a change is necessary\, DJs must coordinate directly with another DJ on the lineup before contacting the organizer. \n\n\n\nOpen Deck Night is also streamed live on the Atlantic Progression channels\, allowing listeners to follow the event remotely and giving participating DJs additional exposure. \n\n\n\nMixcloud live stream:https://www.mixcloud.com/live/atlanticprogression \n\n\n\nTwitch live stream:https://www.twitch.tv/atlanticprogression \n\n\n\nEvery person who enters the venue receives one free raffle ticket. Additional raffle tickets are available for purchase at a rate of two tickets for $5. \n\n\n\nEvent page:https://www.facebook.com/share/1Cb4ehBwUQ/
URL:https://atlanticprogression.com/event/open-deck-night-at-the-heart-8-6-2026-dj-community-event/
LOCATION:The Heart Events\, 755 S Capital Ave\, Idaho Falls\, Idaho\, 83401\, United States
CATEGORIES:Special Event
ATTACH;FMTTYPE=image/png:https://atlanticprogression.com/wp-content/uploads/2026/03/Open-Deck-Night.png
END:VEVENT
BEGIN:VEVENT
DTSTART;TZID=Europe/London:20260822T220000
DTEND;TZID=Europe/London:20260822T220000
DTSTAMP:20260424T101751
CREATED:20260409T202417Z
LAST-MODIFIED:20260409T202419Z
UID:1030-1787436000-1787436000@atlanticprogression.com
SUMMARY:Jachmastr
DESCRIPTION:Atlantic Progression welcomes Jachmastr for a guest session on the channel. \n\n\n\nBased in the UK\, Jachmastr works across progressive house\, melodic techno\, and breaks\, with a catalog that reflects a consistent focus on flow and continuity. His releases span Electric Eden Records\, NAB Records\, Sound and Frequency\, Hexagonal Music\, and Critical Elements. \n\n\n\nHe also curates the twice-weekly Progression Sessions broadcasts on Mixcloud\, delivering extended mixes rooted in progressive and melodic structure. In addition\, he is a Proton Artist and is included in Atlantic Progression’s first label release. \n\n\n\nThis session continues Atlantic Progression’s focus on artists working within deeper\, long-form electronic music. \n\n\n\nStreaming live on the Atlantic Progression channels. \n\n\n\nWatch on Mixcloud: https://www.mixcloud.com/live/atlanticprogression \n\n\n\nWatch on Twitch: https://www.twitch.tv/atlanticprogression
URL:https://atlanticprogression.com/event/jachmastr/
CATEGORIES:Guest DJ
ATTACH;FMTTYPE=image/png:https://atlanticprogression.com/wp-content/uploads/2026/04/Jachmastr-Featured-Image-Wordpress.png
END:VEVENT
BEGIN:VEVENT
DTSTART;TZID=America/Boise:20260829T190000
DTEND;TZID=America/Boise:20260829T190000
DTSTAMP:20260424T101751
CREATED:20250825T223227Z
LAST-MODIFIED:20250919T161548Z
UID:584-1788030000-1788030000@atlanticprogression.com
SUMMARY:Till Death Do Us Part: The Unholy Union Of Acid and Bass
DESCRIPTION:TILL DEATH DO US PART: The Unholy Union of Acid & Bass \n\n\n\nLocation: The Gem on 1st St\, Idaho FallsDate: Saturday\, August 29\, 2026Time: 6 PM – 2 AMEntry: $10 General | $5 with Wedding Attire | Family Bundle Pricing Available \n\n\n\nWEDDED BLISS MEETS THE DANCEFLOOR \n\n\n\nLove and basslines collide in this one-night-only wedding-themed rave\, where acid house and bass/dubstep say “I do” in the filthiest\, most unholy union imaginable. Four DJs will throw down all night while you beautiful people tie the knot (or make it tighter). \n\n\n\nLineup: \n\n\n\n – The Idahoan (Acid House) \n\n\n\n – Corben Dallas [Special Guest – Colorado Springs] (Acid House) \n\n\n\n – KNNY (Drum and Bass) \n\n\n\n – Hailz to the Yes (Dubstep) \n\n\n\nDress for the Occasion & Save: Wear a suit\, tux\, wedding dress\, or bridesmaid dress and get in for just $5.  \n\n\n\nProfessional Wedding Photographer On-Site: Capture your night in high-quality\, frame-worthy style.  \n\n\n\nBar Available (21+ with ID)  \n\n\n\nGet Married Live at the Event: \n\n\n\nThe Idahoan is an ordained minister with the Universal Life Church and will be legally marrying couples with a valid Idaho county-issued marriage certificate. Vow renewals also available. \n\n\n\nOnly 12 Ceremonies Available: Plan your wedding on the dancefloor. Signup form for officiant services coming soon. \n\n\n\nAll Ages Until 10 PM | 18+ After 10 PM \n\n\n\nWhether you’re tying the knot\, renewing vows\, or just here for the acid and bass mayhem\, Till Death Do Us Part will be a night of love\, chaos\, and unforgettable beats.
URL:https://atlanticprogression.com/event/till-death-do-us-part-the-unholy-union-of-acid-and-bass/
LOCATION:The Gem\, 216 1st St\, Idaho Falls\, Idaho\, 83401\, United States
CATEGORIES:Special Event
ATTACH;FMTTYPE=image/jpeg:https://atlanticprogression.com/wp-content/uploads/2025/08/IMG_2401.jpeg
END:VEVENT
BEGIN:VEVENT
DTSTART;TZID=America/Boise:20260903T193000
DTEND;TZID=America/Boise:20260903T193000
DTSTAMP:20260424T101751
CREATED:20260310T171627Z
LAST-MODIFIED:20260310T171629Z
UID:879-1788463800-1788463800@atlanticprogression.com
SUMMARY:Open Deck Night at The Heart
DESCRIPTION:Open Deck Night at The Heart is a monthly Atlantic Progression event designed to provide DJs with a consistent opportunity to play in a club environment while helping build the regional underground electronic music community \n\n\n\nThe event takes place on the first Thursday of every month and begins at 7:30 PM. The night runs as late as 2:00 AM to ensure every scheduled DJ receives their time behind the decks. \n\n\n\nDJs must sign up using the official Open Deck Night signup form. Entries are only valid if submitted on or after 7:00 PM on the Monday before the upcoming event. Any submissions made after the previous event but before 7:00 PM that Monday will be discarded and ignored. Time slots are assigned in the order valid submissions are received\, and there is no preferential placement. Once a DJ is assigned a slot\, they are expected to play that slot. If a change is necessary\, DJs must coordinate directly with another DJ on the lineup before contacting the organizer. \n\n\n\nOpen Deck Night is also streamed live on the Atlantic Progression channels\, allowing listeners to follow the event remotely and giving participating DJs additional exposure. \n\n\n\nMixcloud live stream:https://www.mixcloud.com/live/atlanticprogression \n\n\n\nTwitch live stream:https://www.twitch.tv/atlanticprogression \n\n\n\nEvery person who enters the venue receives one free raffle ticket. Additional raffle tickets are available for purchase at a rate of two tickets for $5. \n\n\n\nEvent page:https://www.facebook.com/share/1Cb4ehBwUQ/
URL:https://atlanticprogression.com/event/open-deck-night-at-the-heart-5/
LOCATION:The Heart Events\, 755 S Capital Ave\, Idaho Falls\, Idaho\, 83401\, United States
CATEGORIES:Special Event
ATTACH;FMTTYPE=image/png:https://atlanticprogression.com/wp-content/uploads/2026/03/Open-Deck-Night.png
END:VEVENT
BEGIN:VEVENT
DTSTART;TZID=America/Boise:20261001T193000
DTEND;TZID=America/Boise:20261001T193000
DTSTAMP:20260424T101751
CREATED:20260310T171845Z
LAST-MODIFIED:20260310T171847Z
UID:881-1790883000-1790883000@atlanticprogression.com
SUMMARY:Open Deck Night at The Heart
DESCRIPTION:Open Deck Night at The Heart is a monthly Atlantic Progression event designed to provide DJs with a consistent opportunity to play in a club environment while helping build the regional underground electronic music community \n\n\n\nThe event takes place on the first Thursday of every month and begins at 7:30 PM. The night runs as late as 2:00 AM to ensure every scheduled DJ receives their time behind the decks. \n\n\n\nDJs must sign up using the official Open Deck Night signup form. Entries are only valid if submitted on or after 7:00 PM on the Monday before the upcoming event. Any submissions made after the previous event but before 7:00 PM that Monday will be discarded and ignored. Time slots are assigned in the order valid submissions are received\, and there is no preferential placement. Once a DJ is assigned a slot\, they are expected to play that slot. If a change is necessary\, DJs must coordinate directly with another DJ on the lineup before contacting the organizer. \n\n\n\nOpen Deck Night is also streamed live on the Atlantic Progression channels\, allowing listeners to follow the event remotely and giving participating DJs additional exposure. \n\n\n\nMixcloud live stream:https://www.mixcloud.com/live/atlanticprogression \n\n\n\nTwitch live stream:https://www.twitch.tv/atlanticprogression \n\n\n\nEvery person who enters the venue receives one free raffle ticket. Additional raffle tickets are available for purchase at a rate of two tickets for $5. \n\n\n\nEvent page:https://www.facebook.com/share/1Cb4ehBwUQ/
URL:https://atlanticprogression.com/event/open-deck-night-at-the-heart-6/
LOCATION:The Heart Events\, 755 S Capital Ave\, Idaho Falls\, Idaho\, 83401\, United States
CATEGORIES:Special Event
ATTACH;FMTTYPE=image/png:https://atlanticprogression.com/wp-content/uploads/2026/03/Open-Deck-Night.png
END:VEVENT
BEGIN:VEVENT
DTSTART;TZID=America/Boise:20261105T193000
DTEND;TZID=America/Boise:20261105T193000
DTSTAMP:20260424T101751
CREATED:20260310T172042Z
LAST-MODIFIED:20260310T172103Z
UID:884-1793907000-1793907000@atlanticprogression.com
SUMMARY:Open Deck Night at The Heart
DESCRIPTION:Open Deck Night at The Heart is a monthly Atlantic Progression event designed to provide DJs with a consistent opportunity to play in a club environment while helping build the regional underground electronic music community \n\n\n\nThe event takes place on the first Thursday of every month and begins at 7:30 PM. The night runs as late as 2:00 AM to ensure every scheduled DJ receives their time behind the decks. \n\n\n\nDJs must sign up using the official Open Deck Night signup form. Entries are only valid if submitted on or after 7:00 PM on the Monday before the upcoming event. Any submissions made after the previous event but before 7:00 PM that Monday will be discarded and ignored. Time slots are assigned in the order valid submissions are received\, and there is no preferential placement. Once a DJ is assigned a slot\, they are expected to play that slot. If a change is necessary\, DJs must coordinate directly with another DJ on the lineup before contacting the organizer. \n\n\n\nOpen Deck Night is also streamed live on the Atlantic Progression channels\, allowing listeners to follow the event remotely and giving participating DJs additional exposure. \n\n\n\nMixcloud live stream:https://www.mixcloud.com/live/atlanticprogression \n\n\n\nTwitch live stream:https://www.twitch.tv/atlanticprogression \n\n\n\nEvery person who enters the venue receives one free raffle ticket. Additional raffle tickets are available for purchase at a rate of two tickets for $5. \n\n\n\nEvent page:https://www.facebook.com/share/1Cb4ehBwUQ/
URL:https://atlanticprogression.com/event/884/
LOCATION:The Heart Events\, 755 S Capital Ave\, Idaho Falls\, Idaho\, 83401\, United States
CATEGORIES:Special Event
ATTACH;FMTTYPE=image/png:https://atlanticprogression.com/wp-content/uploads/2026/03/Open-Deck-Night.png
END:VEVENT
BEGIN:VEVENT
DTSTART;TZID=America/Boise:20261203T193000
DTEND;TZID=America/Boise:20261203T193000
DTSTAMP:20260424T101751
CREATED:20260310T172302Z
LAST-MODIFIED:20260310T172304Z
UID:887-1796326200-1796326200@atlanticprogression.com
SUMMARY:Open Deck Night at The Heart
DESCRIPTION:Open Deck Night at The Heart is a monthly Atlantic Progression event designed to provide DJs with a consistent opportunity to play in a club environment while helping build the regional underground electronic music community \n\n\n\nThe event takes place on the first Thursday of every month and begins at 7:30 PM. The night runs as late as 2:00 AM to ensure every scheduled DJ receives their time behind the decks. \n\n\n\nDJs must sign up using the official Open Deck Night signup form. Entries are only valid if submitted on or after 7:00 PM on the Monday before the upcoming event. Any submissions made after the previous event but before 7:00 PM that Monday will be discarded and ignored. Time slots are assigned in the order valid submissions are received\, and there is no preferential placement. Once a DJ is assigned a slot\, they are expected to play that slot. If a change is necessary\, DJs must coordinate directly with another DJ on the lineup before contacting the organizer. \n\n\n\nOpen Deck Night is also streamed live on the Atlantic Progression channels\, allowing listeners to follow the event remotely and giving participating DJs additional exposure. \n\n\n\nMixcloud live stream:https://www.mixcloud.com/live/atlanticprogression \n\n\n\nTwitch live stream:https://www.twitch.tv/atlanticprogression \n\n\n\nEvery person who enters the venue receives one free raffle ticket. Additional raffle tickets are available for purchase at a rate of two tickets for $5. \n\n\n\nEvent page:https://www.facebook.com/share/1Cb4ehBwUQ/
URL:https://atlanticprogression.com/event/open-deck-night-at-the-heart-7/
LOCATION:The Heart Events\, 755 S Capital Ave\, Idaho Falls\, Idaho\, 83401\, United States
CATEGORIES:Special Event
ATTACH;FMTTYPE=image/png:https://atlanticprogression.com/wp-content/uploads/2026/03/Open-Deck-Night.png
END:VEVENT
END:VCALENDAR